BEGIN:VCALENDAR
VERSION:2.0
PRODID:-//Sutton Place Wine Merchant - ECPv6.9.0//NONSGML v1.0//EN
CALSCALE:GREGORIAN
METHOD:PUBLISH
X-ORIGINAL-URL:https://www.suttonplacewinemerchant.com
X-WR-CALDESC:Events for Sutton Place Wine Merchant
REFRESH-INTERVAL;VALUE=DURATION:PT1H
X-Robots-Tag:noindex
X-PUBLISHED-TTL:PT1H
BEGIN:VTIMEZONE
TZID:America/Vancouver
BEGIN:DAYLIGHT
TZOFFSETFROM:-0800
TZOFFSETTO:-0700
TZNAME:PDT
DTSTART:20240310T100000
END:DAYLIGHT
BEGIN:STANDARD
TZOFFSETFROM:-0700
TZOFFSETTO:-0800
TZNAME:PST
DTSTART:20241103T090000
END:STANDARD
TZID:UTC
BEGIN:STANDARD
TZOFFSETFROM:+0000
TZOFFSETTO:+0000
TZNAME:UTC
DTSTART:20240101T000000
END:STANDARD
END:VTIMEZONE
BEGIN:VEVENT
DTSTART;TZID=America/Vancouver:20240718T160000
DTEND;TZID=America/Vancouver:20240718T190000
DTSTAMP:20260423T114348
CREATED:20240528T004938Z
LAST-MODIFIED:20240528T004938Z
UID:1490-1721318400-1721329200@www.suttonplacewinemerchant.com
SUMMARY:Free Tasting: The Wine Syndicate
DESCRIPTION:Free Tasting featuring importer: The Wine Syndicate \n\nLopez de Haro Riserva\nClarendelle Rose\nCastiglion Chardonnay
URL:https://www.suttonplacewinemerchant.com/event/free-tasting-the-wine-syndicate/
CATEGORIES:Free Tastings
END:VEVENT
BEGIN:VEVENT
DTSTART;TZID=America/Vancouver:20240713T160000
DTEND;TZID=America/Vancouver:20240713T190000
DTSTAMP:20260423T114348
CREATED:20240528T004635Z
LAST-MODIFIED:20240528T004635Z
UID:1488-1720886400-1720897200@www.suttonplacewinemerchant.com
SUMMARY:Free Tasting: Birch Block Vineyard
DESCRIPTION:Free Tasting featuring importer: Birch Block Vineyard \n\nPinot Noir Rose\nPinot Noir
URL:https://www.suttonplacewinemerchant.com/event/free-tasting-birch-block-vineyard/
CATEGORIES:Free Tastings
END:VEVENT
BEGIN:VEVENT
DTSTART;TZID=America/Vancouver:20240712T160000
DTEND;TZID=America/Vancouver:20240712T190000
DTSTAMP:20260423T114348
CREATED:20240528T003056Z
LAST-MODIFIED:20240528T003056Z
UID:1482-1720800000-1720810800@www.suttonplacewinemerchant.com
SUMMARY:Free Tasting: World Wine Synergy
DESCRIPTION:Free Tasting featuring importer: World Wine Synergy
URL:https://www.suttonplacewinemerchant.com/event/free-tasting-world-wine-synergy-2/
CATEGORIES:Free Tastings
END:VEVENT
BEGIN:VEVENT
DTSTART;TZID=America/Vancouver:20240711T160000
DTEND;TZID=America/Vancouver:20240711T190000
DTSTAMP:20260423T114348
CREATED:20240528T002019Z
LAST-MODIFIED:20240701T204059Z
UID:1480-1720713600-1720724400@www.suttonplacewinemerchant.com
SUMMARY:Free Tasting: Ninki Sparkling Sake
DESCRIPTION:Free Tasting featuring the Ninki Sparkling Sake!
URL:https://www.suttonplacewinemerchant.com/event/free-tasting-amovino/
CATEGORIES:Free Tastings
END:VEVENT
BEGIN:VEVENT
DTSTART;TZID=America/Vancouver:20240706T160000
DTEND;TZID=America/Vancouver:20240706T190000
DTSTAMP:20260423T114348
CREATED:20240528T001904Z
LAST-MODIFIED:20240528T001904Z
UID:1478-1720281600-1720292400@www.suttonplacewinemerchant.com
SUMMARY:Free Tasting: Wine Umbrella
DESCRIPTION:Free Tasting featuring importer: Wine Umbrella \n\nDames Brut\nDames White (dry white blend)\nTWU Fleur (off-dry)\nTWU Chardonnay\nTWU Co-Syrah\nTWU Carmenere\n\nFrom 4-7PM
URL:https://www.suttonplacewinemerchant.com/event/free-tasting-wine-umbrella/
CATEGORIES:Free Tastings
END:VEVENT
BEGIN:VEVENT
DTSTART;TZID=America/Vancouver:20240705T160000
DTEND;TZID=America/Vancouver:20240705T190000
DTSTAMP:20260423T114348
CREATED:20240528T001433Z
LAST-MODIFIED:20240528T001433Z
UID:1476-1720195200-1720206000@www.suttonplacewinemerchant.com
SUMMARY:Free Tasting: Revelry Imports
DESCRIPTION:Free Tasting featuring importer: Revelry from 4-7PM
URL:https://www.suttonplacewinemerchant.com/event/free-tasting-revelry-imports/
CATEGORIES:Free Tastings
END:VEVENT
BEGIN:VEVENT
DTSTART;TZID=America/Vancouver:20240704T160000
DTEND;TZID=America/Vancouver:20240704T190000
DTSTAMP:20260423T114348
CREATED:20240528T001252Z
LAST-MODIFIED:20240701T204006Z
UID:1474-1720108800-1720119600@www.suttonplacewinemerchant.com
SUMMARY:Free Tasting: Stoneboat Winery
DESCRIPTION:We will be pouring wines from Stoneboat Winery! \n 
URL:https://www.suttonplacewinemerchant.com/event/free-tasting-stile-brands/
CATEGORIES:Free Tastings
END:VEVENT
BEGIN:VEVENT
DTSTART;TZID=America/Vancouver:20240628T160000
DTEND;TZID=America/Vancouver:20240628T190000
DTSTAMP:20260423T114348
CREATED:20240528T000157Z
LAST-MODIFIED:20240528T000157Z
UID:1472-1719590400-1719601200@www.suttonplacewinemerchant.com
SUMMARY:Free Tasting: Premium Portugal
DESCRIPTION:Free Tasting featuring the wines of Portugal courtesy of importer Premium Portugal.
URL:https://www.suttonplacewinemerchant.com/event/free-tasting-premium-portugal/
CATEGORIES:Free Tastings
END:VEVENT
BEGIN:VEVENT
DTSTART;TZID=America/Vancouver:20240627T160000
DTEND;TZID=America/Vancouver:20240627T190000
DTSTAMP:20260423T114348
CREATED:20240528T000015Z
LAST-MODIFIED:20240528T000015Z
UID:1470-1719504000-1719514800@www.suttonplacewinemerchant.com
SUMMARY:Free Tasting: Laughing Stock
DESCRIPTION:Free Tasting featuring Laughing Stock Vineyards from 4-7pm. \n\nViognier\nSyrah\nBlind Trust Red & White
URL:https://www.suttonplacewinemerchant.com/event/free-tasting-laughing-stock/
CATEGORIES:Free Tastings
END:VEVENT
BEGIN:VEVENT
DTSTART;TZID=America/Vancouver:20240621T160000
DTEND;TZID=America/Vancouver:20240621T190000
DTSTAMP:20260423T114348
CREATED:20240527T235850Z
LAST-MODIFIED:20240527T235850Z
UID:1468-1718985600-1718996400@www.suttonplacewinemerchant.com
SUMMARY:Free Tasting: Orofino Winery
DESCRIPTION:Free Wine Tasting Featuring Orofino Winery from 4-7pm
URL:https://www.suttonplacewinemerchant.com/event/free-tasting-orofino-winery/
CATEGORIES:Free Tastings
END:VEVENT
BEGIN:VEVENT
DTSTART;TZID=America/Vancouver:20240620T160000
DTEND;TZID=America/Vancouver:20240620T190000
DTSTAMP:20260423T114348
CREATED:20240527T235023Z
LAST-MODIFIED:20240527T235023Z
UID:1466-1718899200-1718910000@www.suttonplacewinemerchant.com
SUMMARY:Free Tasting: Lake Breeze - Vintage Corks
DESCRIPTION:Free Tasting featuring Lake Breeze Winery from 4-7pm
URL:https://www.suttonplacewinemerchant.com/event/free-tasting-lake-breeze-vintage-corks/
CATEGORIES:Free Tastings
END:VEVENT
BEGIN:VEVENT
DTSTART;TZID=America/Vancouver:20240615T160000
DTEND;TZID=America/Vancouver:20240615T190000
DTSTAMP:20260423T114348
CREATED:20240527T234800Z
LAST-MODIFIED:20240527T234800Z
UID:1464-1718467200-1718478000@www.suttonplacewinemerchant.com
SUMMARY:Free Tasting: KIS Consulting
DESCRIPTION:Free Tasting featuring importer KIS Consulting from 4-7pm \n\nLakeside Cab Franc\nBlanc De Noir\nPortage Red [or white/rose]
URL:https://www.suttonplacewinemerchant.com/event/free-tasting-kis-consulting/
CATEGORIES:Free Tastings
END:VEVENT
BEGIN:VEVENT
DTSTART;TZID=America/Vancouver:20240614T160000
DTEND;TZID=America/Vancouver:20240614T190000
DTSTAMP:20260423T114348
CREATED:20240527T234232Z
LAST-MODIFIED:20240527T234232Z
UID:1462-1718380800-1718391600@www.suttonplacewinemerchant.com
SUMMARY:Free Tasting: Dream Wines
DESCRIPTION:Free Tasting featuring importer Dream Wines from 4-7pm
URL:https://www.suttonplacewinemerchant.com/event/free-tasting-dream-wines/
CATEGORIES:Free Tastings
END:VEVENT
BEGIN:VEVENT
DTSTART;TZID=America/Vancouver:20240613T160000
DTEND;TZID=America/Vancouver:20240613T190000
DTSTAMP:20260423T114348
CREATED:20240527T233924Z
LAST-MODIFIED:20240527T233924Z
UID:1460-1718294400-1718305200@www.suttonplacewinemerchant.com
SUMMARY:Free Tasting: Painted Rock
DESCRIPTION:Free Tasting featuring Painted Rock Winery from 4-7pm \n\n2022 Rose\n2021 Cab Sauv\n2020 Red Icon
URL:https://www.suttonplacewinemerchant.com/event/free-tasting-painted-rock/
CATEGORIES:Free Tastings
END:VEVENT
BEGIN:VEVENT
DTSTART;TZID=America/Vancouver:20240608T160000
DTEND;TZID=America/Vancouver:20240608T190000
DTSTAMP:20260423T114348
CREATED:20240527T233139Z
LAST-MODIFIED:20240527T233139Z
UID:1458-1717862400-1717873200@www.suttonplacewinemerchant.com
SUMMARY:Free Tasting: World Wine Synergy
DESCRIPTION:Free Tasting featuring importer World Wine Synergy from 4-7pm
URL:https://www.suttonplacewinemerchant.com/event/free-tasting-world-wine-synergy/
CATEGORIES:Free Tastings
END:VEVENT
BEGIN:VEVENT
DTSTART;TZID=America/Vancouver:20240607T160000
DTEND;TZID=America/Vancouver:20240607T190000
DTSTAMP:20260423T114348
CREATED:20240527T232912Z
LAST-MODIFIED:20240527T232912Z
UID:1456-1717776000-1717786800@www.suttonplacewinemerchant.com
SUMMARY:Free Tasting: Meditaste
DESCRIPTION:Free Tasting featuring importer Meditaste from 4-7pm
URL:https://www.suttonplacewinemerchant.com/event/free-tasting-meditaste/
CATEGORIES:Free Tastings
END:VEVENT
BEGIN:VEVENT
DTSTART;TZID=America/Vancouver:20240606T160000
DTEND;TZID=America/Vancouver:20240606T190000
DTSTAMP:20260423T114348
CREATED:20240527T232712Z
LAST-MODIFIED:20240527T232712Z
UID:1454-1717689600-1717700400@www.suttonplacewinemerchant.com
SUMMARY:Free Tasting: Poplar Grove
DESCRIPTION:Free Tasting featuring Poplar Grove Winery from 4-7pm \n\nThree Rose Pinot Noir Rose\nLakeview Rose\nPinot Noir
URL:https://www.suttonplacewinemerchant.com/event/free-tasting-poplar-grove/
CATEGORIES:Free Tastings
END:VEVENT
BEGIN:VEVENT
DTSTART;TZID=America/Vancouver:20240531T030000
DTEND;TZID=America/Vancouver:20240531T190000
DTSTAMP:20260423T114348
CREATED:20240527T232600Z
LAST-MODIFIED:20240527T232600Z
UID:1452-1717124400-1717182000@www.suttonplacewinemerchant.com
SUMMARY:Free Tastings: Bonamici Winery
DESCRIPTION:Free Tasting featuring Bonamici Winery from 4-7pm
URL:https://www.suttonplacewinemerchant.com/event/free-tastings-bonamici-winery/
CATEGORIES:Free Tastings
END:VEVENT
BEGIN:VEVENT
DTSTART;TZID=America/Vancouver:20240530T160000
DTEND;TZID=America/Vancouver:20240530T190000
DTSTAMP:20260423T114348
CREATED:20240527T232414Z
LAST-MODIFIED:20240527T232429Z
UID:1449-1717084800-1717095600@www.suttonplacewinemerchant.com
SUMMARY:Free Tasting: Arzuaga
DESCRIPTION:Free Tasting for Arzuaga Wines! We’ll be tasting 3 of their wines: \n\nArzuaga Crianza\nPago Florentino\nRibera Del Duero
URL:https://www.suttonplacewinemerchant.com/event/arzuaga-tasting/
CATEGORIES:Free Tastings
END:VEVENT
BEGIN:VEVENT
DTSTART;TZID=America/Vancouver:20240419T160000
DTEND;TZID=America/Vancouver:20240419T190000
DTSTAMP:20260423T114348
CREATED:20240328T184532Z
LAST-MODIFIED:20240328T184532Z
UID:1373-1713542400-1713553200@www.suttonplacewinemerchant.com
SUMMARY:Free Tasting: Twin Sails Brewing
DESCRIPTION:Try some local craft beer from Port Moody brewery: Twin Sails! \n\nTwin Sails Would Crush\nTwin Sails Good Clean\nTwin Sails Dat Juice
URL:https://www.suttonplacewinemerchant.com/event/free-tasting-twin-sails-brewing/
CATEGORIES:Free Tastings
END:VEVENT
BEGIN:VEVENT
DTSTART;TZID=America/Vancouver:20240405T160000
DTEND;TZID=America/Vancouver:20240405T190000
DTSTAMP:20260423T114348
CREATED:20240328T183822Z
LAST-MODIFIED:20240328T183822Z
UID:1369-1712332800-1712343600@www.suttonplacewinemerchant.com
SUMMARY:Free Tasting: Driftwood Gins
DESCRIPTION:Join us for a free tasting from 4-7pm and try Driftwood’s fantastic line of gins: \n\nContact Gin\nParabola Gin
URL:https://www.suttonplacewinemerchant.com/event/free-tasting-driftwood-gins/
CATEGORIES:Free Tastings
END:VEVENT
BEGIN:VEVENT
DTSTART;TZID=America/Vancouver:20240329T160000
DTEND;TZID=America/Vancouver:20240329T190000
DTSTAMP:20260423T114348
CREATED:20240301T032836Z
LAST-MODIFIED:20240329T001551Z
UID:1315-1711728000-1711738800@www.suttonplacewinemerchant.com
SUMMARY:Free Tastings: Meijian Plum Wine & Jiangxiaobai
DESCRIPTION:Try these awesome chinese spirits for free from 4-7pm! \n\nJiangxiaobai (Baijiu)\nMeijian Plum Wine
URL:https://www.suttonplacewinemerchant.com/event/free-tastings-sheringham-gin/
CATEGORIES:Free Tastings
END:VEVENT
BEGIN:VEVENT
DTSTART;TZID=America/Vancouver:20240322T160000
DTEND;TZID=America/Vancouver:20240322T190000
DTSTAMP:20260423T114348
CREATED:20240301T024647Z
LAST-MODIFIED:20240301T024647Z
UID:1313-1711123200-1711134000@www.suttonplacewinemerchant.com
SUMMARY:Free Tasting: Monster Vineyards
DESCRIPTION:Come by between 4-7pm to try wines from this unique winery: Monster Vineyards. \nThe lineup: \n\nMonster Chardonnay\nMonster Cabernet Sauvignon
URL:https://www.suttonplacewinemerchant.com/event/free-tasting-monster-vineyards/
CATEGORIES:Free Tastings
END:VEVENT
BEGIN:VEVENT
DTSTART;TZID=America/Vancouver:20240316T160000
DTEND;TZID=America/Vancouver:20240316T190000
DTSTAMP:20260423T114348
CREATED:20240301T024020Z
LAST-MODIFIED:20240310T005053Z
UID:1309-1710604800-1710615600@www.suttonplacewinemerchant.com
SUMMARY:Free Tasting: Driftwood Spirits
DESCRIPTION:Come by to try some incredible gins from Driftwood Spirits! \n\nContact Gin\nParabola Gin
URL:https://www.suttonplacewinemerchant.com/event/free-tasting-driftwood-spirits/
CATEGORIES:Free Tastings
END:VEVENT
BEGIN:VEVENT
DTSTART;TZID=America/Vancouver:20240314T160000
DTEND;TZID=America/Vancouver:20240314T190000
DTSTAMP:20260423T114348
CREATED:20240301T024243Z
LAST-MODIFIED:20240301T024243Z
UID:1311-1710432000-1710442800@www.suttonplacewinemerchant.com
SUMMARY:Free Beer Tasting: R&B Brewing
DESCRIPTION:Looking for some interesting craft beer? Then look no further than R&B Brewing creating some unique flavors and experiences. \nThe lineup: \n\nDill Pickle Beer\nHipster Haze Hazy IPA\nRaven Cream Ale
URL:https://www.suttonplacewinemerchant.com/event/free-beer-tasting-rb-brewing/
CATEGORIES:Free Tastings
END:VEVENT
BEGIN:VEVENT
DTSTART;TZID=America/Vancouver:20240301T160000
DTEND;TZID=America/Vancouver:20240301T190000
DTSTAMP:20260423T114348
CREATED:20240301T022505Z
LAST-MODIFIED:20240301T040622Z
UID:1302-1709308800-1709319600@www.suttonplacewinemerchant.com
SUMMARY:Free Beer Tasting: Moody Ales
DESCRIPTION:Join us from 4-7pm today to try some local craft beer from Port Moody’s very own Moody Ales & Co! \nThe lineup: \n\nTahitian Vanilla Porter\nDunkel’s Bock\nLavender Sour\nDark Sour
URL:https://www.suttonplacewinemerchant.com/event/free-beer-tasting-moody-ales/
CATEGORIES:Free Tastings
END:VEVENT
BEGIN:VEVENT
DTSTART;TZID=America/Vancouver:20240216T160000
DTEND;TZID=America/Vancouver:20240216T190000
DTSTAMP:20260423T114348
CREATED:20240205T022342Z
LAST-MODIFIED:20240205T022342Z
UID:1258-1708099200-1708110000@www.suttonplacewinemerchant.com
SUMMARY:Free Tasting: On The Rocks Cocktails
DESCRIPTION:Join us for an amazing evening of cocktail tasting featuring the pre-made cocktails from On The Rocks!
URL:https://www.suttonplacewinemerchant.com/event/free-tasting-on-the-rocks-cocktails/
CATEGORIES:Free Tastings
END:VEVENT
BEGIN:VEVENT
DTSTART;TZID=America/Vancouver:20240207T160000
DTEND;TZID=America/Vancouver:20240207T180000
DTSTAMP:20260423T114348
CREATED:20240205T021333Z
LAST-MODIFIED:20240205T021333Z
UID:1254-1707321600-1707328800@www.suttonplacewinemerchant.com
SUMMARY:Free Tasting: Praise Wines
DESCRIPTION:Join us for a special free tasting where you’ll get to experience the captivating wines from PRAISE. \n\nPraise White\nPraise Red
URL:https://www.suttonplacewinemerchant.com/event/free-tasting-praise-wines/
CATEGORIES:Free Tastings
END:VEVENT
BEGIN:VEVENT
DTSTART;TZID=UTC:20240126T160000
DTEND;TZID=UTC:20240126T190000
DTSTAMP:20260423T114348
CREATED:20240112T043427Z
LAST-MODIFIED:20240112T074218Z
UID:1132-1706284800-1706295600@www.suttonplacewinemerchant.com
SUMMARY:Free Beer Tasting - 33 Acres Brewing
DESCRIPTION:Beers: Sunshine\, Darkness\, and Nirvana \n🍻 Cheers to Good Times! Join us on January 26th from 4-7pm for a FREE Tasting Extravaganza featuring the fantastic brews of 33 Acres Brewing! 🍺 \nIndulge your taste buds in an evening of hoppy happiness and malty delights as we showcase the unique flavors crafted by the masterminds at 33 Acres. Sip\, savor\, and discover your new favorite brews—all in good company! \nBring your pals\, gather your squad\, and let’s make this a memorable evening of laughter\, camaraderie\, and of course\, exceptional beer. Whether you’re a seasoned beer aficionado or just starting your craft beer journey\, this tasting event promises a palette-pleasing experience for everyone. \nBest of all? It’s FREE! So mark your calendar\, set your alarm\, and get ready to raise your glasses to a night of hoppy happiness. See you on January 26th—because great beer and good times are always worth celebrating!
URL:https://www.suttonplacewinemerchant.com/event/free-weekly-tasting-33-acres-brewing/
LOCATION:Sutton Place Wine Merchant\, 855 Burrard Street\, Vancouver\, British Columbia\, V6Z2K6\, Canada
CATEGORIES:Free Tastings
END:VEVENT
BEGIN:VEVENT
DTSTART;TZID=America/Vancouver:20240114T120000
DTEND;TZID=America/Vancouver:20240114T180000
DTSTAMP:20260423T114348
CREATED:20240115T223036Z
LAST-MODIFIED:20240115T223036Z
UID:1181-1705233600-1705255200@www.suttonplacewinemerchant.com
SUMMARY:Daily Pours - Wine Tasting - Until 6PM
DESCRIPTION:Just us for the start of our Daily Pours – a small tasting everyday so you can try before you buy! Today we’re tasting two incredible wines: \n\nMusella Valpolicella Superiore\nPhantom Creek Pinot Gris\n\nThe tasting will be until 6pm!
URL:https://www.suttonplacewinemerchant.com/event/daily-pours-wine-tasting-until-6pm/
CATEGORIES:Free Tastings
END:VEVENT
END:VCALENDAR