BEGIN:VCALENDAR
VERSION:2.0
PRODID:-//Sutton Place Wine Merchant - ECPv6.9.0//NONSGML v1.0//EN
CALSCALE:GREGORIAN
METHOD:PUBLISH
X-WR-CALNAME:Sutton Place Wine Merchant
X-ORIGINAL-URL:https://www.suttonplacewinemerchant.com
X-WR-CALDESC:Events for Sutton Place Wine Merchant
REFRESH-INTERVAL;VALUE=DURATION:PT1H
X-Robots-Tag:noindex
X-PUBLISHED-TTL:PT1H
BEGIN:VTIMEZONE
TZID:America/Vancouver
BEGIN:DAYLIGHT
TZOFFSETFROM:-0800
TZOFFSETTO:-0700
TZNAME:PDT
DTSTART:20240310T100000
END:DAYLIGHT
BEGIN:STANDARD
TZOFFSETFROM:-0700
TZOFFSETTO:-0800
TZNAME:PST
DTSTART:20241103T090000
END:STANDARD
END:VTIMEZONE
BEGIN:VEVENT
DTSTART;TZID=America/Vancouver:20240213T120000
DTEND;TZID=America/Vancouver:20240213T180000
DTSTAMP:20260419T134806
CREATED:20240210T235611Z
LAST-MODIFIED:20240210T235611Z
UID:1268-1707825600-1707847200@www.suttonplacewinemerchant.com
SUMMARY:Daily Pours: Moody Ales Pancake Beer
DESCRIPTION:This beer is returning for its 2nd round of tastings to celebrate Shrove Tuesday! \n\nMoody Ales House of Pancakes Maple Bacon Pastry Beer
URL:https://www.suttonplacewinemerchant.com/event/daily-pours-moody-ales-pancake-beer/
CATEGORIES:Daily Pours
END:VEVENT
BEGIN:VEVENT
DTSTART;TZID=America/Vancouver:20240211T120000
DTEND;TZID=America/Vancouver:20240211T180000
DTSTAMP:20260419T134806
CREATED:20240210T222507Z
LAST-MODIFIED:20240210T232139Z
UID:1262-1707652800-1707674400@www.suttonplacewinemerchant.com
SUMMARY:Daily Pours: Fuggles Brewing
DESCRIPTION:Grabbing beer for the superbowl? Then come by and try these beers from Fuggle Brewings while you’re at it! Free to taste for anyone who drops by the store before 6pm. \n– Javaverse Stout\n– Kiwami Plum Sour\n– Destiny IPA
URL:https://www.suttonplacewinemerchant.com/event/daily-pours-fuggles-brewing-kiwami-plum-sour/
CATEGORIES:Daily Pours
END:VEVENT
BEGIN:VEVENT
DTSTART;TZID=America/Vancouver:20240210T120000
DTEND;TZID=America/Vancouver:20240210T200000
DTSTAMP:20260419T134806
CREATED:20240210T220605Z
LAST-MODIFIED:20240210T220605Z
UID:1260-1707566400-1707595200@www.suttonplacewinemerchant.com
SUMMARY:Daily Pours: Lakeside Cellars Cab Franc + Portage Red Round 2
DESCRIPTION:For those who missed yesterday’s tasting\, fear not! We are pouring the fabulous reds from Lakeside Cellars again today until 8pm (or until we’re out!). Stop by anytime before to try some!
URL:https://www.suttonplacewinemerchant.com/event/daily-pours-lakeside-cellars-cab-franc-portage-red-round-2/
CATEGORIES:Daily Pours
END:VEVENT
BEGIN:VEVENT
DTSTART;TZID=America/Vancouver:20240204T120000
DTEND;TZID=America/Vancouver:20240204T180000
DTSTAMP:20260419T134806
CREATED:20240204T220515Z
LAST-MODIFIED:20240204T220515Z
UID:1252-1707048000-1707069600@www.suttonplacewinemerchant.com
SUMMARY:Daily Pours: Maple Bacon Pastry Beer
DESCRIPTION:Join us anytime before 6pm today to try this one of a kind maple bacon pastry beer from Moody Ales & Co!
URL:https://www.suttonplacewinemerchant.com/event/daily-pours-maple-bacon-pastry-beer/
CATEGORIES:Daily Pours
END:VEVENT
BEGIN:VEVENT
DTSTART;TZID=America/Vancouver:20240203T120000
DTEND;TZID=America/Vancouver:20240203T200000
DTSTAMP:20260419T134806
CREATED:20240122T012003Z
LAST-MODIFIED:20240128T212747Z
UID:1218-1706961600-1706990400@www.suttonplacewinemerchant.com
SUMMARY:Daily Pours: Averill Creek Chardonnay
DESCRIPTION:🍇🥂 Dive into the exquisite taste of Vancouver Island’s beloved Averill Creek Winery with today’s tasting featuring their latest release\, the Averill Creek Chardonnay! 🌟 Join us on a journey of flavor as we uncork this new gem from one of the island’s favorites. \n– Averill Creek Chardonnay (New Release)
URL:https://www.suttonplacewinemerchant.com/event/daily-pours-averill-creek-chardonnay/
CATEGORIES:Daily Pours
END:VEVENT
BEGIN:VEVENT
DTSTART;TZID=America/Vancouver:20240201T120000
DTEND;TZID=America/Vancouver:20240201T200000
DTSTAMP:20260419T134806
CREATED:20240201T202951Z
LAST-MODIFIED:20240201T203237Z
UID:1246-1706788800-1706817600@www.suttonplacewinemerchant.com
SUMMARY:Daily Pours: Dieu Du Ciel! Brewery
DESCRIPTION:Join us today to try an amazing stout called Aphrodite from a Montreal Brewery: Dieu Du Ciel! Save the trip and experience Montreal craft beer here in Vancouver! Anytime before 8pm on Thursday\, 6pm on Wednesday.
URL:https://www.suttonplacewinemerchant.com/event/daily-pours-dieu-du-ciel-brewery/
CATEGORIES:Daily Pours
END:VEVENT
BEGIN:VEVENT
DTSTART;TZID=America/Vancouver:20240131T120000
DTEND;TZID=America/Vancouver:20240131T180000
DTSTAMP:20260419T134806
CREATED:20240201T203120Z
LAST-MODIFIED:20240201T203120Z
UID:1249-1706702400-1706724000@www.suttonplacewinemerchant.com
SUMMARY:Daily Pours: Dieu Du Ciel!
DESCRIPTION:Aphrodite from Dieu Du Ciel!\n\nTry this stout anytime before 6pm today!
URL:https://www.suttonplacewinemerchant.com/event/daily-pours-dieu-du-ciel/
CATEGORIES:Daily Pours
END:VEVENT
BEGIN:VEVENT
DTSTART;TZID=America/Vancouver:20240130T120000
DTEND;TZID=America/Vancouver:20240130T180000
DTSTAMP:20260419T134806
CREATED:20240201T202805Z
LAST-MODIFIED:20240201T203302Z
UID:1244-1706616000-1706637600@www.suttonplacewinemerchant.com
SUMMARY:Daily Pours: Lonetree Rhubarb Cider
DESCRIPTION:Join us today anytime before 6pm to taste a rhubarb cider from Lonetree! \n\nLonetree Rhubarb Cider
URL:https://www.suttonplacewinemerchant.com/event/daily-pours-lonetree-rhubarb-cider/
CATEGORIES:Daily Pours
END:VEVENT
BEGIN:VEVENT
DTSTART;TZID=America/Vancouver:20240129T120000
DTEND;TZID=America/Vancouver:20240129T180000
DTSTAMP:20260419T134806
CREATED:20240122T014102Z
LAST-MODIFIED:20240201T202301Z
UID:1222-1706529600-1706551200@www.suttonplacewinemerchant.com
SUMMARY:Daily Pours: Fuggles Brewery
DESCRIPTION:🍺✨ Embrace the hoppy goodness and join us for an unforgettable craft beer tasting featuring the fantastic brews from Fuggles Brewing! 🌟 Immerse yourself in the world of Fuggles\, where passion meets craftsmanship\, and each sip tells a story. Whether you’re a seasoned beer enthusiast or just exploring the wonderful world of craft brews\, this event is your ticket to an evening of flavor\, fun\, and Fuggles magic. \nThe Beer Lineup: \n\nFuggles Javaverse Stout\nWarpspeed Lager\nKiwami Plum Sour
URL:https://www.suttonplacewinemerchant.com/event/daily-pours-fuggles-brewery/
CATEGORIES:Daily Pours
END:VEVENT
BEGIN:VEVENT
DTSTART;TZID=America/Vancouver:20240127T120000
DTEND;TZID=America/Vancouver:20240127T200000
DTSTAMP:20260419T134806
CREATED:20240122T020233Z
LAST-MODIFIED:20240201T202420Z
UID:1224-1706356800-1706385600@www.suttonplacewinemerchant.com
SUMMARY:Daily Pours: Les Jamelles Sauv Blanc & Cab Sauv
DESCRIPTION:
URL:https://www.suttonplacewinemerchant.com/event/daily-pours-les-jamelles-sauv-blanc-cab-sauv/
CATEGORIES:Daily Pours
END:VEVENT
BEGIN:VEVENT
DTSTART;TZID=America/Vancouver:20240125T120000
DTEND;TZID=America/Vancouver:20240125T200000
DTSTAMP:20260419T134806
CREATED:20240125T194841Z
LAST-MODIFIED:20240125T194841Z
UID:1235-1706184000-1706212800@www.suttonplacewinemerchant.com
SUMMARY:Daily Pours: Izeta Basque Cider Round 2!
DESCRIPTION:Join us anytime before 8pm to try round 2 of Izeta Basque Cider!
URL:https://www.suttonplacewinemerchant.com/event/daily-pours-izeta-basque-cider-round-2/
CATEGORIES:Daily Pours
END:VEVENT
BEGIN:VEVENT
DTSTART;TZID=America/Vancouver:20240124T120000
DTEND;TZID=America/Vancouver:20240124T180000
DTSTAMP:20260419T134806
CREATED:20240125T003035Z
LAST-MODIFIED:20240125T003035Z
UID:1233-1706097600-1706119200@www.suttonplacewinemerchant.com
SUMMARY:Daily Pours: Izeta Basque Cider
DESCRIPTION:Drop by for a free tasting featuring classic Spanish cider from Izeta in the Basque Country. Expect green apple\, lemon\, apple vinegar\, and tons of acidity. Give it a try today anytime before 6pm! \n– Izeta Basque Cider
URL:https://www.suttonplacewinemerchant.com/event/daily-pours-izeta-basque-cider/
CATEGORIES:Daily Pours
END:VEVENT
BEGIN:VEVENT
DTSTART;TZID=America/Vancouver:20240123T120000
DTEND;TZID=America/Vancouver:20240123T180000
DTSTAMP:20260419T134806
CREATED:20240122T002325Z
LAST-MODIFIED:20240122T202128Z
UID:1210-1706011200-1706032800@www.suttonplacewinemerchant.com
SUMMARY:Daily Pours: Raymi Sauv Blanc & Cab Sauv
DESCRIPTION:🍇🍷 Embark on a delightful journey with us as we invite you to experience the exquisite flavors of Raymi wines. 🌟 Indulge in the vibrant and crisp Raymi Sauvignon Blanc\, a wine that dances on your palate with refreshing notes of citrus and tropical fruits. Imagine sipping on this delightful white wine and being transported to sun-kissed vineyards with every sip. For an enchanting red wine experience\, get ready to be captivated by the Raymi Cabernet Sauvignon. This bold and sophisticated wine offers a symphony of dark berries\, subtle spices\, and a velvety finish that lingers\, leaving a lasting impression.
URL:https://www.suttonplacewinemerchant.com/event/daily-pours-raymi-sauv-blanc-cab-sauv/
CATEGORIES:Daily Pours
END:VEVENT
BEGIN:VEVENT
DTSTART;TZID=America/Vancouver:20240121T120000
DTEND;TZID=America/Vancouver:20240121T180000
DTSTAMP:20260419T134806
CREATED:20240119T024953Z
LAST-MODIFIED:20240122T201927Z
UID:1199-1705838400-1705860000@www.suttonplacewinemerchant.com
SUMMARY:Free Tasting: Laurent Miquel White + Red Wine
DESCRIPTION:🍇✨ Embark on a sensory journey with our Laurent Miquel White + Red Wine Event\, featuring the exquisite Vendanges Nocturnes Blanc and Rouge. Dive into the world of unparalleled craftsmanship and indulge in the magic encapsulated within each bottle. \n🌟 The Laurent Miquel Vendanges Nocturnes Blanc\, sourced from the finest vineyards\, is a symphony of Sauvignon Blanc\, Colombard\, and Grenache Blanc grapes. This white wine\, like a moonlit harvest\, captures the essence of freshness with notes of vibrant citrus\, delicate white flowers\, and a touch of tropical allure. It’s a poetic expression of elegance and a testament to the dedication woven into every sip. \n🍷 Meanwhile\, the Laurent Miquel Vendanges Nocturnes Rouge is a captivating blend of Merlot\, Syrah and Grenache\, promising a rich and velvety experience. Envision a midnight vineyard bathed in moonlight\, as this red wine unfolds with layers of dark berries\, a hint of spice\, and smooth tannins. It’s a sensory masterpiece that will leave your palate craving the encore. \nJoin us anytime before 6pm as we uncork the essence of Laurent Miquel wines. Whether you’re a seasoned wine enthusiast or a curious newcomer\, this event promises an elevated appreciation for the artistry of winemaking.
URL:https://www.suttonplacewinemerchant.com/event/free-tasting-laurent-miquel-white-red-wine/
CATEGORIES:Daily Pours
END:VEVENT
BEGIN:VEVENT
DTSTART;TZID=America/Vancouver:20240120T120000
DTEND;TZID=America/Vancouver:20240120T200000
DTSTAMP:20260419T134806
CREATED:20240118T234356Z
LAST-MODIFIED:20240118T234356Z
UID:1196-1705752000-1705780800@www.suttonplacewinemerchant.com
SUMMARY:Daily Pours: Spirit Tasting - Sortilege
DESCRIPTION:Embark on a journey of unparalleled taste with Sortilege Maple Whiskey! Crafted with the finest Canadian whisky and infused with the sweet richness of Quebec maple syrup\, Sortilège Original is a global sensation\, loved for its striking balance between robust whisky strength and the delectable flavors of pure maple goodness. Join us for a tasting experience that promises to be outstanding and uniquely delightful until 8pm this Saturday. Don’t miss the chance to savor this harmonious blend that’s as Canadian as it gets!
URL:https://www.suttonplacewinemerchant.com/event/daily-pours-spirit-tasting-sortilege/
CATEGORIES:Daily Pours
END:VEVENT
BEGIN:VEVENT
DTSTART;TZID=America/Vancouver:20240119T120000
DTEND;TZID=America/Vancouver:20240119T200000
DTSTAMP:20260419T134806
CREATED:20240116T012937Z
LAST-MODIFIED:20240118T195124Z
UID:1187-1705665600-1705694400@www.suttonplacewinemerchant.com
SUMMARY:Daily Pours: Wine Tasting - Rust
DESCRIPTION:Sip & Savor: Unveiling RUST’s Finest at Sutton Place Wine Merchant! \nIndulge your senses in an exquisite journey of flavor as Sutton Place Wine Merchant proudly presents the bold and beautiful wines from RUST. Join us for an afternoon of sophistication\, where every pour tells a tale of craftsmanship and passion. \nWines: \n\nRust Gamay Noir\nRust Cabernet Franc
URL:https://www.suttonplacewinemerchant.com/event/daily-pours-wine-tasting-rust/
CATEGORIES:Daily Pours
END:VEVENT
BEGIN:VEVENT
DTSTART;TZID=America/Vancouver:20240118T120000
DTEND;TZID=America/Vancouver:20240118T200000
DTSTAMP:20260419T134806
CREATED:20240118T200040Z
LAST-MODIFIED:20240118T200040Z
UID:1194-1705579200-1705608000@www.suttonplacewinemerchant.com
SUMMARY:Daily Pours: Wine Tasting - Chateau Recougne
DESCRIPTION:A fan of red\, old world wines? Then join us for today’s tasting where you’ll get to experience a lovely glass of Bordeaux Superior from Chateau Recougne. From 12pm – 8pm\, we’ll be pouring this every day table wine free of cost for you to try before you buy! If you decide to buy\, it wont break the bank either\, sitting at under $30!! \nSee you soon! \nWines: \n\nChateau Recougne Bordeaux Superieur 2019
URL:https://www.suttonplacewinemerchant.com/event/daily-pours-wine-tasting-chateau-recougne/
CATEGORIES:Daily Pours
END:VEVENT
BEGIN:VEVENT
DTSTART;TZID=America/Vancouver:20240117T120000
DTEND;TZID=America/Vancouver:20240117T180000
DTSTAMP:20260419T134806
CREATED:20240117T220819Z
LAST-MODIFIED:20240117T220852Z
UID:1190-1705492800-1705514400@www.suttonplacewinemerchant.com
SUMMARY:Daily Pours: Carmen Carmenere
DESCRIPTION:Escape the snow and join us for an impromptu tasting featuring Carmen Carmenere! One of the oldest wineries in Chile\, this red wine boasts wonderful aromas of red and black fruits\, with a light green/herbaceous note. Come by anytime before 6pm to try it for free! \nWine: Carmen Carmenere
URL:https://www.suttonplacewinemerchant.com/event/daily-pours-carmen-carmenere/
CATEGORIES:Daily Pours
END:VEVENT
BEGIN:VEVENT
DTSTART;TZID=America/Vancouver:20240116T110000
DTEND;TZID=America/Vancouver:20240116T180000
DTSTAMP:20260419T134806
CREATED:20240115T223746Z
LAST-MODIFIED:20240116T201904Z
UID:1185-1705402800-1705428000@www.suttonplacewinemerchant.com
SUMMARY:Daily Pours: Sake Tasting - Ninki Sparkling Sake
DESCRIPTION:Today’s tasting is a special one – sparkling sake from Ninki! If you’ve never tried sparkling sake before\, this is your chance! Come by anytime before 6pm to try for free! \n\nNinki Sparkling Sake
URL:https://www.suttonplacewinemerchant.com/event/daily-pours-sake-tasting-ninki-sake/
CATEGORIES:Daily Pours
END:VEVENT
BEGIN:VEVENT
DTSTART;TZID=America/Vancouver:20240115T110000
DTEND;TZID=America/Vancouver:20240115T180000
DTSTAMP:20260419T134806
CREATED:20240115T223244Z
LAST-MODIFIED:20240115T223244Z
UID:1183-1705316400-1705341600@www.suttonplacewinemerchant.com
SUMMARY:Daily Pours - Beer Tasting - Container Brewing
DESCRIPTION:Today’s daily pour is none other than Container Brewing! We’re trying 3 of their exciting beers: \n\nRambler Rye Lager\nMadra Rua Irish Red Ale\nTitle Fight Blueberry Stout\n\nCome anytime until 6pm to try these beers for free! Try before you buy!
URL:https://www.suttonplacewinemerchant.com/event/daily-pours-beer-tasting-container-brewing/
CATEGORIES:Daily Pours
END:VEVENT
END:VCALENDAR