BEGIN:VCALENDAR
VERSION:2.0
PRODID:-//Sutton Place Wine Merchant - ECPv6.9.0//NONSGML v1.0//EN
CALSCALE:GREGORIAN
METHOD:PUBLISH
X-WR-CALNAME:Sutton Place Wine Merchant
X-ORIGINAL-URL:https://www.suttonplacewinemerchant.com
X-WR-CALDESC:Events for Sutton Place Wine Merchant
REFRESH-INTERVAL;VALUE=DURATION:PT1H
X-Robots-Tag:noindex
X-PUBLISHED-TTL:PT1H
BEGIN:VTIMEZONE
TZID:America/Vancouver
BEGIN:DAYLIGHT
TZOFFSETFROM:-0800
TZOFFSETTO:-0700
TZNAME:PDT
DTSTART:20240310T100000
END:DAYLIGHT
BEGIN:STANDARD
TZOFFSETFROM:-0700
TZOFFSETTO:-0800
TZNAME:PST
DTSTART:20241103T090000
END:STANDARD
END:VTIMEZONE
BEGIN:VEVENT
DTSTART;TZID=America/Vancouver:20240416T120000
DTEND;TZID=America/Vancouver:20240416T180000
DTSTAMP:20260419T054522
CREATED:20240329T005228Z
LAST-MODIFIED:20240329T005228Z
UID:1408-1713268800-1713290400@www.suttonplacewinemerchant.com
SUMMARY:Daily In-Store Tasting
DESCRIPTION:Join us for our daily instore tasting\, where we’ll be pouring any number of wine\, beers\, or spirits for the day!
URL:https://www.suttonplacewinemerchant.com/event/daily-in-store-tasting-30/
CATEGORIES:Daily Pours
END:VEVENT
BEGIN:VEVENT
DTSTART;TZID=America/Vancouver:20240415T120000
DTEND;TZID=America/Vancouver:20240415T180000
DTSTAMP:20260419T054522
CREATED:20240329T004931Z
LAST-MODIFIED:20240329T004931Z
UID:1406-1713182400-1713204000@www.suttonplacewinemerchant.com
SUMMARY:Daily In-Store Tasting
DESCRIPTION:Join us for our daily instore tasting\, where we’ll be pouring any number of wine\, beers\, or spirits for the day!
URL:https://www.suttonplacewinemerchant.com/event/daily-in-store-tasting-29/
CATEGORIES:Daily Pours
END:VEVENT
BEGIN:VEVENT
DTSTART;TZID=America/Vancouver:20240414T120000
DTEND;TZID=America/Vancouver:20240414T180000
DTSTAMP:20260419T054522
CREATED:20240329T004816Z
LAST-MODIFIED:20240329T004816Z
UID:1404-1713096000-1713117600@www.suttonplacewinemerchant.com
SUMMARY:Daily In-Store Tasting
DESCRIPTION:Join us for our daily instore tasting\, where we’ll be pouring any number of wine\, beers\, or spirits for the day!
URL:https://www.suttonplacewinemerchant.com/event/daily-in-store-tasting-28/
CATEGORIES:Daily Pours
END:VEVENT
BEGIN:VEVENT
DTSTART;TZID=America/Vancouver:20240413T120000
DTEND;TZID=America/Vancouver:20240413T200000
DTSTAMP:20260419T054522
CREATED:20240329T004707Z
LAST-MODIFIED:20240329T004707Z
UID:1402-1713009600-1713038400@www.suttonplacewinemerchant.com
SUMMARY:Daily In-Store Tasting
DESCRIPTION:Join us for our daily instore tasting\, where we’ll be pouring any number of wine\, beers\, or spirits for the day!
URL:https://www.suttonplacewinemerchant.com/event/daily-in-store-tasting-27/
CATEGORIES:Daily Pours
END:VEVENT
BEGIN:VEVENT
DTSTART;TZID=America/Vancouver:20240411T120000
DTEND;TZID=America/Vancouver:20240411T200000
DTSTAMP:20260419T054522
CREATED:20240329T004533Z
LAST-MODIFIED:20240329T004533Z
UID:1400-1712836800-1712865600@www.suttonplacewinemerchant.com
SUMMARY:Daily In-Store Tasting
DESCRIPTION:Join us for our daily instore tasting\, where we’ll be pouring any number of wine\, beers\, or spirits for the day!
URL:https://www.suttonplacewinemerchant.com/event/daily-in-store-tasting-26/
CATEGORIES:Daily Pours
END:VEVENT
BEGIN:VEVENT
DTSTART;TZID=America/Vancouver:20240410T120000
DTEND;TZID=America/Vancouver:20240410T180000
DTSTAMP:20260419T054522
CREATED:20240329T004410Z
LAST-MODIFIED:20240329T004410Z
UID:1398-1712750400-1712772000@www.suttonplacewinemerchant.com
SUMMARY:Daily In-Store Tasting
DESCRIPTION:Join us for our daily instore tasting\, where we’ll be pouring any number of wine\, beers\, or spirits for the day!
URL:https://www.suttonplacewinemerchant.com/event/daily-in-store-tasting-25/
CATEGORIES:Daily Pours
END:VEVENT
BEGIN:VEVENT
DTSTART;TZID=America/Vancouver:20240409T120000
DTEND;TZID=America/Vancouver:20240409T180000
DTSTAMP:20260419T054522
CREATED:20240329T004325Z
LAST-MODIFIED:20240329T004325Z
UID:1396-1712664000-1712685600@www.suttonplacewinemerchant.com
SUMMARY:Daily In-Store Tasting
DESCRIPTION:Join us for our daily instore tasting\, where we’ll be pouring any number of wine\, beers\, or spirits for the day!
URL:https://www.suttonplacewinemerchant.com/event/daily-in-store-tasting-24/
CATEGORIES:Daily Pours
END:VEVENT
BEGIN:VEVENT
DTSTART;TZID=America/Vancouver:20240408T120000
DTEND;TZID=America/Vancouver:20240408T180000
DTSTAMP:20260419T054522
CREATED:20240328T190318Z
LAST-MODIFIED:20240328T190638Z
UID:1385-1712577600-1712599200@www.suttonplacewinemerchant.com
SUMMARY:Daily In Store Tasting
DESCRIPTION:Join us for our daily instore tasting\, where we’ll be pouring any number of wine\, beers\, or spirits for the day!
URL:https://www.suttonplacewinemerchant.com/event/daily-in-store-tasting-20/
CATEGORIES:Daily Pours
END:VEVENT
BEGIN:VEVENT
DTSTART;TZID=America/Vancouver:20240407T120000
DTEND;TZID=America/Vancouver:20240407T180000
DTSTAMP:20260419T054522
CREATED:20240328T190846Z
LAST-MODIFIED:20240328T190928Z
UID:1389-1712491200-1712512800@www.suttonplacewinemerchant.com
SUMMARY:Daily In-Store Tasting
DESCRIPTION:Join us for our daily instore tasting\, where we’ll be pouring any number of wine\, beers\, or spirits for the day!
URL:https://www.suttonplacewinemerchant.com/event/daily-in-store-tasting-22/
CATEGORIES:Daily Pours
END:VEVENT
BEGIN:VEVENT
DTSTART;TZID=America/Vancouver:20240406T120000
DTEND;TZID=America/Vancouver:20240406T200000
DTSTAMP:20260419T054522
CREATED:20240328T190405Z
LAST-MODIFIED:20240328T190405Z
UID:1387-1712404800-1712433600@www.suttonplacewinemerchant.com
SUMMARY:Daily In Store Tasting
DESCRIPTION:Join us for our daily instore tasting\, where we’ll be pouring any number of wine\, beers\, or spirits for the day!
URL:https://www.suttonplacewinemerchant.com/event/daily-in-store-tasting-21/
CATEGORIES:Daily Pours
END:VEVENT
BEGIN:VEVENT
DTSTART;TZID=America/Vancouver:20240404T120000
DTEND;TZID=America/Vancouver:20240404T200000
DTSTAMP:20260419T054522
CREATED:20240328T190217Z
LAST-MODIFIED:20240328T190217Z
UID:1383-1712232000-1712260800@www.suttonplacewinemerchant.com
SUMMARY:Daily In-Store Tasting
DESCRIPTION:Join us for our daily instore tasting\, where we’ll be pouring any number of wine\, beers\, or spirits for the day!
URL:https://www.suttonplacewinemerchant.com/event/daily-in-store-tasting-19/
CATEGORIES:Daily Pours
END:VEVENT
BEGIN:VEVENT
DTSTART;TZID=America/Vancouver:20240403T120000
DTEND;TZID=America/Vancouver:20240403T180000
DTSTAMP:20260419T054522
CREATED:20240328T190127Z
LAST-MODIFIED:20240328T190127Z
UID:1381-1712145600-1712167200@www.suttonplacewinemerchant.com
SUMMARY:Daily In-Store Tasting
DESCRIPTION:Join us for our daily instore tasting\, where we’ll be pouring any number of wine\, beers\, or spirits for the day!
URL:https://www.suttonplacewinemerchant.com/event/daily-in-store-tasting-18/
CATEGORIES:Daily Pours
END:VEVENT
BEGIN:VEVENT
DTSTART;TZID=America/Vancouver:20240402T120000
DTEND;TZID=America/Vancouver:20240402T180000
DTSTAMP:20260419T054522
CREATED:20240328T190028Z
LAST-MODIFIED:20240328T190028Z
UID:1379-1712059200-1712080800@www.suttonplacewinemerchant.com
SUMMARY:Daily In-Store Tasting
DESCRIPTION:Join us for our daily instore tasting\, where we’ll be pouring any number of wine\, beers\, or spirits for the day!
URL:https://www.suttonplacewinemerchant.com/event/daily-in-store-tasting-17/
CATEGORIES:Daily Pours
END:VEVENT
BEGIN:VEVENT
DTSTART;TZID=America/Vancouver:20240401T120000
DTEND;TZID=America/Vancouver:20240401T180000
DTSTAMP:20260419T054522
CREATED:20240329T001836Z
LAST-MODIFIED:20240329T001836Z
UID:1394-1711972800-1711994400@www.suttonplacewinemerchant.com
SUMMARY:Daily In-Store Tasting
DESCRIPTION:Join us for our daily instore tasting\, where we’ll be pouring any number of wine\, beers\, or spirits for the day!
URL:https://www.suttonplacewinemerchant.com/event/daily-in-store-tasting-23/
CATEGORIES:Daily Pours
END:VEVENT
BEGIN:VEVENT
DTSTART;TZID=America/Vancouver:20240331T120000
DTEND;TZID=America/Vancouver:20240331T180000
DTSTAMP:20260419T054522
CREATED:20240310T013307Z
LAST-MODIFIED:20240310T013307Z
UID:1364-1711886400-1711908000@www.suttonplacewinemerchant.com
SUMMARY:Daily In Store Tasting
DESCRIPTION:Join us for our daily instore tasting\, where we’ll be pouring any number of wine\, beers\, or spirits for the day!
URL:https://www.suttonplacewinemerchant.com/event/daily-in-store-tasting-15/
CATEGORIES:Daily Pours
END:VEVENT
BEGIN:VEVENT
DTSTART;TZID=America/Vancouver:20240330T120000
DTEND;TZID=America/Vancouver:20240330T200000
DTSTAMP:20260419T054522
CREATED:20240310T013233Z
LAST-MODIFIED:20240310T013233Z
UID:1362-1711800000-1711828800@www.suttonplacewinemerchant.com
SUMMARY:Daily In Store Tastings
DESCRIPTION:Join us for our daily instore tasting\, where we’ll be pouring any number of wine\, beers\, or spirits for the day!
URL:https://www.suttonplacewinemerchant.com/event/daily-in-store-tastings-2/
CATEGORIES:Daily Pours
END:VEVENT
BEGIN:VEVENT
DTSTART;TZID=America/Vancouver:20240328T120000
DTEND;TZID=America/Vancouver:20240328T200000
DTSTAMP:20260419T054522
CREATED:20240310T013153Z
LAST-MODIFIED:20240310T013153Z
UID:1360-1711627200-1711656000@www.suttonplacewinemerchant.com
SUMMARY:Daily In Store Tastings
DESCRIPTION:Join us for our daily instore tasting\, where we’ll be pouring any number of wine\, beers\, or spirits for the day!
URL:https://www.suttonplacewinemerchant.com/event/daily-in-store-tastings/
CATEGORIES:Daily Pours
END:VEVENT
BEGIN:VEVENT
DTSTART;TZID=America/Vancouver:20240326T120000
DTEND;TZID=America/Vancouver:20240326T180000
DTSTAMP:20260419T054522
CREATED:20240310T013031Z
LAST-MODIFIED:20240310T013031Z
UID:1358-1711454400-1711476000@www.suttonplacewinemerchant.com
SUMMARY:Daily In Store Tasting
DESCRIPTION:Join us for our daily instore tasting\, where we’ll be pouring any number of wine\, beers\, or spirits for the day!
URL:https://www.suttonplacewinemerchant.com/event/daily-in-store-tasting-14/
CATEGORIES:Daily Pours
END:VEVENT
BEGIN:VEVENT
DTSTART;TZID=America/Vancouver:20240325T120000
DTEND;TZID=America/Vancouver:20240325T180000
DTSTAMP:20260419T054522
CREATED:20240310T012752Z
LAST-MODIFIED:20240310T012752Z
UID:1356-1711368000-1711389600@www.suttonplacewinemerchant.com
SUMMARY:Daily In Store Tasting
DESCRIPTION:Join us for our daily instore tasting\, where we’ll be pouring any number of wine\, beers\, or spirits for the day!
URL:https://www.suttonplacewinemerchant.com/event/daily-in-store-tasting-13/
CATEGORIES:Daily Pours
END:VEVENT
BEGIN:VEVENT
DTSTART;TZID=America/Vancouver:20240324T120000
DTEND;TZID=America/Vancouver:20240324T180000
DTSTAMP:20260419T054522
CREATED:20240310T012709Z
LAST-MODIFIED:20240310T012709Z
UID:1354-1711281600-1711303200@www.suttonplacewinemerchant.com
SUMMARY:Daily In-Store Tasting
DESCRIPTION:Join us for our daily instore tasting\, where we’ll be pouring any number of wine\, beers\, or spirits for the day!
URL:https://www.suttonplacewinemerchant.com/event/daily-in-store-tasting-12/
CATEGORIES:Daily Pours
END:VEVENT
BEGIN:VEVENT
DTSTART;TZID=America/Vancouver:20240323T120000
DTEND;TZID=America/Vancouver:20240323T200000
DTSTAMP:20260419T054522
CREATED:20240310T012631Z
LAST-MODIFIED:20240310T012631Z
UID:1352-1711195200-1711224000@www.suttonplacewinemerchant.com
SUMMARY:Daily In Store Tasting
DESCRIPTION:Join us for our daily instore tasting\, where we’ll be pouring any number of wine\, beers\, or spirits for the day!
URL:https://www.suttonplacewinemerchant.com/event/daily-in-store-tasting-11/
CATEGORIES:Daily Pours
END:VEVENT
BEGIN:VEVENT
DTSTART;TZID=America/Vancouver:20240321T120000
DTEND;TZID=America/Vancouver:20240321T200000
DTSTAMP:20260419T054522
CREATED:20240310T012041Z
LAST-MODIFIED:20240310T012041Z
UID:1349-1711022400-1711051200@www.suttonplacewinemerchant.com
SUMMARY:Daily In-Store Tasting
DESCRIPTION:Join us for our daily instore tasting\, where we’ll be pouring any number of wine\, beers\, or spirits for the day!
URL:https://www.suttonplacewinemerchant.com/event/daily-in-store-tasting-10/
CATEGORIES:Daily Pours
END:VEVENT
BEGIN:VEVENT
DTSTART;TZID=America/Vancouver:20240320T120000
DTEND;TZID=America/Vancouver:20240320T180000
DTSTAMP:20260419T054522
CREATED:20240310T012001Z
LAST-MODIFIED:20240310T012001Z
UID:1347-1710936000-1710957600@www.suttonplacewinemerchant.com
SUMMARY:Daily In-Store Tasting
DESCRIPTION:Join us for our daily instore tasting\, where we’ll be pouring any number of wine\, beers\, or spirits for the day!
URL:https://www.suttonplacewinemerchant.com/event/daily-in-store-tasting-9/
CATEGORIES:Daily Pours
END:VEVENT
BEGIN:VEVENT
DTSTART;TZID=America/Vancouver:20240319T120000
DTEND;TZID=America/Vancouver:20240319T180000
DTSTAMP:20260419T054522
CREATED:20240310T011910Z
LAST-MODIFIED:20240310T011910Z
UID:1345-1710849600-1710871200@www.suttonplacewinemerchant.com
SUMMARY:Daily In Store Tasting
DESCRIPTION:Join us for our daily instore tasting\, where we’ll be pouring any number of wine\, beers\, or spirits for the day!
URL:https://www.suttonplacewinemerchant.com/event/daily-in-store-tasting-8/
CATEGORIES:Daily Pours
END:VEVENT
BEGIN:VEVENT
DTSTART;TZID=America/Vancouver:20240318T120000
DTEND;TZID=America/Vancouver:20240318T180000
DTSTAMP:20260419T054522
CREATED:20240310T011838Z
LAST-MODIFIED:20240310T011838Z
UID:1343-1710763200-1710784800@www.suttonplacewinemerchant.com
SUMMARY:Daily In-Store Tasting
DESCRIPTION:Join us for our daily instore tasting\, where we’ll be pouring any number of wine\, beers\, or spirits for the day!
URL:https://www.suttonplacewinemerchant.com/event/daily-in-store-tasting-7/
CATEGORIES:Daily Pours
END:VEVENT
BEGIN:VEVENT
DTSTART;TZID=America/Vancouver:20240317T120000
DTEND;TZID=America/Vancouver:20240317T180000
DTSTAMP:20260419T054522
CREATED:20240310T011649Z
LAST-MODIFIED:20240310T011649Z
UID:1341-1710676800-1710698400@www.suttonplacewinemerchant.com
SUMMARY:Daily In-Store Tasting
DESCRIPTION:Join us for our daily instore tasting\, where we’ll be pouring any number of wine\, beers\, or spirits for the day!
URL:https://www.suttonplacewinemerchant.com/event/daily-in-store-tasting-6/
CATEGORIES:Daily Pours
END:VEVENT
BEGIN:VEVENT
DTSTART;TZID=America/Vancouver:20240315T120000
DTEND;TZID=America/Vancouver:20240315T200000
DTSTAMP:20260419T054522
CREATED:20240310T010024Z
LAST-MODIFIED:20240310T010024Z
UID:1338-1710504000-1710532800@www.suttonplacewinemerchant.com
SUMMARY:Daily In-Store Tasting
DESCRIPTION:Join us for our daily instore tasting\, where we’ll be pouring any number of wine\, beers\, or spirits for the day!
URL:https://www.suttonplacewinemerchant.com/event/daily-in-store-tasting-5/
CATEGORIES:Daily Pours
END:VEVENT
BEGIN:VEVENT
DTSTART;TZID=America/Vancouver:20240313T120000
DTEND;TZID=America/Vancouver:20240313T180000
DTSTAMP:20260419T054522
CREATED:20240310T003219Z
LAST-MODIFIED:20240310T003219Z
UID:1336-1710331200-1710352800@www.suttonplacewinemerchant.com
SUMMARY:Daily In-Store Tasting
DESCRIPTION:Join us for our daily instore tasting\, where we’ll be pouring any number of wine\, beers\, or spirits for the day!
URL:https://www.suttonplacewinemerchant.com/event/daily-in-store-tasting-4/
CATEGORIES:Daily Pours
END:VEVENT
BEGIN:VEVENT
DTSTART;TZID=America/Vancouver:20240310T120000
DTEND;TZID=America/Vancouver:20240310T180000
DTSTAMP:20260419T054522
CREATED:20240310T003002Z
LAST-MODIFIED:20240310T003024Z
UID:1329-1710072000-1710093600@www.suttonplacewinemerchant.com
SUMMARY:Daily In Store Tasting
DESCRIPTION:Join us for our daily instore tasting\, where we’ll be pouring any number of wine\, beers\, or spirits for the day!
URL:https://www.suttonplacewinemerchant.com/event/in-store-daily-tasting/
CATEGORIES:Daily Pours
END:VEVENT
BEGIN:VEVENT
DTSTART;TZID=America/Vancouver:20240229T120000
DTEND;TZID=America/Vancouver:20240229T200000
DTSTAMP:20260419T054522
CREATED:20240301T022240Z
LAST-MODIFIED:20240301T022240Z
UID:1300-1709208000-1709236800@www.suttonplacewinemerchant.com
SUMMARY:Free Tasting: Tenuta Regaleali – Leone Blend - Day 2
DESCRIPTION:A continuation of yesterday’s tasting\, stop by anytime til 8pm to try this crisp white from Sicily for free!
URL:https://www.suttonplacewinemerchant.com/event/free-tasting-tenuta-regaleali-leone-blend-day-2/
CATEGORIES:Daily Pours
END:VEVENT
END:VCALENDAR